BEGIN:VCALENDAR
PRODID:-//Microsoft Corporation//Outlook 12.0 MIMEDIR//EN
VERSION:2.0
CALSCALE:GREGORIAN
BEGIN:VEVENT
UID: 64be6fbb-1135-48db-9ab6-0add02a9b7ee
SUMMARY:Tonio Tamra mälestuskontsert
DTSTAMP:20260404T160000
DTSTART:20260404T160000
DTEND:20260404T190000
LOCATION:Ugala teater
DESCRIPTION: <p style="-webkit-text-stroke-width:0px;caret-color:rgb(85, 85, 85);color:rgb(85, 85, 85);font-family:sans-serif;font-size:15px;font-style:normal;font-variant-caps:normal;font-weight:400;letter-spacing:normal;line-height:21px;orphans:auto;text-align:left;text-decoration:none;text-indent:0px;text-transform:none;white-space:normal;widows:auto;word-spacing:0px;">Oled südamest oodatud erikontserdile, mis on pühendatud Tonio Tamra mälestusele ja loomingule. Sel pärastlõunal kõlavad Tonio Tamra kirjutatud ja seatud teosed.<br>Lavale astuvad solistid Kait Tamra, Toomas Lunge, Eleryn Tiit, Merilyn Tiit, Kristjan Luik koos mitmete kollektiividega: Viljandi Noorte Sümfooniaorkester, Viljandi Muusikakooli mudilaskoor, puhkpilliorkester, vilistlasorkester, vilistlaskoor, Viljandimaa Kammerkoor ning rahvatantsurühm Vabajalg. See on ühine austusavaldus – muusikas, sõnas ja koosolemises.</p><p style="-webkit-text-stroke-width:0px;caret-color:rgb(85, 85, 85);color:rgb(85, 85, 85);font-family:sans-serif;font-size:15px;font-style:normal;font-variant-caps:normal;font-weight:400;letter-spacing:normal;line-height:21px;orphans:auto;text-align:left;text-decoration:none;text-indent:0px;text-transform:none;white-space:normal;widows:auto;word-spacing:0px;">Kontserdi jooksul antakse üle toetus Tonio Tamra nimelise fondi stipendiumi saajale.</p><p style="-webkit-text-stroke-width:0px;caret-color:rgb(85, 85, 85);color:rgb(85, 85, 85);font-family:sans-serif;font-size:15px;font-style:normal;font-variant-caps:normal;font-weight:400;letter-spacing:normal;line-height:21px;orphans:auto;text-align:left;text-decoration:none;text-indent:0px;text-transform:none;white-space:normal;widows:auto;word-spacing:0px;">Uksed avatakse kell 15:00</p><p style="-webkit-text-stroke-width:0px;caret-color:rgb(85, 85, 85);color:rgb(85, 85, 85);font-family:sans-serif;font-size:15px;font-style:normal;font-variant-caps:normal;font-weight:400;letter-spacing:normal;line-height:21px;orphans:auto;text-align:left;text-decoration:none;text-indent:0px;text-transform:none;white-space:normal;widows:auto;word-spacing:0px;">Korraldajad: Viljandi Muusikakool, Viljandi Rotary Klubi, TÜ VKA, Ugala Teater.</p><p><strong>Link: </strong>https://viljandimuusikakool.ee/et/sundmuste-kalender/tonio-tamra-malestuskontsert</p><p><strong>Hind: </strong></p>
STATUS:CONFIRMED
SEQUENCE:3
X-ALT-DESC;FMTTYPE=text/html:<p style="-webkit-text-stroke-width:0px;caret-color:rgb(85, 85, 85);color:rgb(85, 85, 85);font-family:sans-serif;font-size:15px;font-style:normal;font-variant-caps:normal;font-weight:400;letter-spacing:normal;line-height:21px;orphans:auto;text-align:left;text-decoration:none;text-indent:0px;text-transform:none;white-space:normal;widows:auto;word-spacing:0px;">Oled südamest oodatud erikontserdile, mis on pühendatud Tonio Tamra mälestusele ja loomingule. Sel pärastlõunal kõlavad Tonio Tamra kirjutatud ja seatud teosed.<br>Lavale astuvad solistid Kait Tamra, Toomas Lunge, Eleryn Tiit, Merilyn Tiit, Kristjan Luik koos mitmete kollektiividega: Viljandi Noorte Sümfooniaorkester, Viljandi Muusikakooli mudilaskoor, puhkpilliorkester, vilistlasorkester, vilistlaskoor, Viljandimaa Kammerkoor ning rahvatantsurühm Vabajalg. See on ühine austusavaldus – muusikas, sõnas ja koosolemises.</p><p style="-webkit-text-stroke-width:0px;caret-color:rgb(85, 85, 85);color:rgb(85, 85, 85);font-family:sans-serif;font-size:15px;font-style:normal;font-variant-caps:normal;font-weight:400;letter-spacing:normal;line-height:21px;orphans:auto;text-align:left;text-decoration:none;text-indent:0px;text-transform:none;white-space:normal;widows:auto;word-spacing:0px;">Kontserdi jooksul antakse üle toetus Tonio Tamra nimelise fondi stipendiumi saajale.</p><p style="-webkit-text-stroke-width:0px;caret-color:rgb(85, 85, 85);color:rgb(85, 85, 85);font-family:sans-serif;font-size:15px;font-style:normal;font-variant-caps:normal;font-weight:400;letter-spacing:normal;line-height:21px;orphans:auto;text-align:left;text-decoration:none;text-indent:0px;text-transform:none;white-space:normal;widows:auto;word-spacing:0px;">Uksed avatakse kell 15:00</p><p style="-webkit-text-stroke-width:0px;caret-color:rgb(85, 85, 85);color:rgb(85, 85, 85);font-family:sans-serif;font-size:15px;font-style:normal;font-variant-caps:normal;font-weight:400;letter-spacing:normal;line-height:21px;orphans:auto;text-align:left;text-decoration:none;text-indent:0px;text-transform:none;white-space:normal;widows:auto;word-spacing:0px;">Korraldajad: Viljandi Muusikakool, Viljandi Rotary Klubi, TÜ VKA, Ugala Teater.</p><p><strong>Link: </strong>https://viljandimuusikakool.ee/et/sundmuste-kalender/tonio-tamra-malestuskontsert</p><p><strong>Hind: </strong></p>
X-MICROSOFT-CDO-BUSYSTATUS:OOF
X-MICROSOFT-CDO-IMPORTANCE:1
X-MICROSOFT-DISALLOW-COUNTER:FALSE
X-MS-OLK-ALLOWEXTERNCHECK:TRUE
X-MS-OLK-CONFTYPE:0
X-MICROSOFT-CDO-ALLDAYEVENT:
X-MICROSOFT-MSNCALENDAR-ALLDAYEVENT:
END:VEVENT
END:VCALENDAR